BEGIN:VCALENDAR
VERSION:2.0
PRODID:-//Plone.org//NONSGML plone.app.event//EN
X-WR-TIMEZONE:Europe/Berlin
BEGIN:VEVENT
SUMMARY:Two Doctoral Positions
DTSTART;VALUE=DATE:20220103
DTEND;VALUE=DATE:20220108
DTSTAMP;VALUE=DATE-TIME:20260421T052857Z
UID:814051cd5a9f45f389ddafe63d309892-en@www.evifa.de
CONTACT:https://www.euroethno.hu-berlin.de/de/institut/personen/farias/sfb
 -the-urban-microclimate-regime
CREATED;VALUE=DATE-TIME:20211229T193220Z
DESCRIPTION:In the project The Urban Microclimate Regime at the Collaborat
 ive Research Center @SFB1265 The Re-Figuration of Spaces\; application dea
 dline: expected 7 January 2022\n#UrbanAnthropology #STS #SpatialSociology
LAST-MODIFIED;VALUE=DATE-TIME:20220107T142723Z
LOCATION:Berlin
URL:https://www.evifa.de/en/assets/news/meldungen/two-doctoral-positions
END:VEVENT
END:VCALENDAR
