BEGIN:VCALENDAR
VERSION:2.0
PRODID:-//Plone.org//NONSGML plone.app.event//EN
X-WR-TIMEZONE:Europe/Berlin
BEGIN:VEVENT
SUMMARY:transmortale XIV – Neue Forschungen zu Sterben\, Tod und Trauer
DTSTART;VALUE=DATE:20241002
DTEND;VALUE=DATE:20241102
DTSTAMP;VALUE=DATE-TIME:20260424T073755Z
UID:885e95c5028442a6b8bc4946a9df6494-en@www.evifa.de
CONTACT:https://www.sepulkralmuseum.de/forschung/forschung-zur-sepulkralku
 ltur/transmortale--neue-forschungen-zum-thema-tod
CREATED;VALUE=DATE-TIME:20241002T140643Z
DESCRIPTION:Call for Papers für die Veranstaltung: "transmortale XIV – 
 Neue Forschungen zu Sterben\, Tod und Trauer"\, organisiert vom Zentralins
 titut und Museum für Sepulkralkultur in Kassel. Einreichungsfrist: 01.11.
 2024
LAST-MODIFIED;VALUE=DATE-TIME:20241002T141200Z
LOCATION:Kassel
URL:https://www.evifa.de/en/assets/news/meldungen/transmortale-xiv-neue-fo
 rschungen-zu-sterben-tod-und-trauer
END:VEVENT
END:VCALENDAR
