BEGIN:VCALENDAR
VERSION:2.0
PRODID:-//Plone.org//NONSGML plone.app.event//EN
X-WR-TIMEZONE:Europe/Berlin
BEGIN:VEVENT
SUMMARY:Special Issue on ‚Comic Literacies‘
DTSTART;VALUE=DATE:20260423
DTEND;VALUE=DATE:20260801
DTSTAMP;VALUE=DATE-TIME:20260423T165152Z
UID:678eaf55232c47d780ffe51ce6ac74bc-en@www.evifa.de
CONTACT:https://think.taylorandfrancis.com/special_issues/comic-literacies
 /
CREATED;VALUE=DATE-TIME:20260423T114539Z
DESCRIPTION:Call for Articles on the Special Issue on ‚Comic Literacies
 ‘ by the journal ‚Comedy Studies‘ (Routledge Taylor & Francis Group)
 . Abstract deadline: 31 July 2027.
LAST-MODIFIED;VALUE=DATE-TIME:20260423T120052Z
URL:https://www.evifa.de/en/assets/news/meldungen/special-issue-on-comic-l
 iteracies-routledge-2026
END:VEVENT
END:VCALENDAR
