BEGIN:VCALENDAR
VERSION:2.0
PRODID:-//Plone.org//NONSGML plone.app.event//EN
X-WR-TIMEZONE:Europe/Berlin
BEGIN:VEVENT
SUMMARY:Research Position
DTSTART;VALUE=DATE:20260331
DTEND;VALUE=DATE:20260423
DTSTAMP;VALUE=DATE-TIME:20260420T222548Z
UID:aeb724f2c2de45068d7d5261ba4f2695-en@www.evifa.de
CONTACT:Prof. Dr. Minh Nguyen\, minh.nguyen@uni-bielefeld.de\, https://job
 s.uni-bielefeld.de/job/view/4806/research-position-m-f-d-working-group-of-
 sociology-of-transnationalisation-and-social-anthropology?page_lang=en
CREATED;VALUE=DATE-TIME:20260331T143016Z
DESCRIPTION:The University of Bielefeld is offering a Research Position (P
 ostDoc\, 100%\, 3+2 years) in the Working Group of Sociology of Transnatio
 nalisation and Social Anthropology with a focus on market transformations 
 in Vietnam or China. Application Deadline: 22.04.2026
LAST-MODIFIED;VALUE=DATE-TIME:20260331T143658Z
LOCATION:Bielefeld
URL:https://www.evifa.de/en/assets/news/meldungen/research-position-univer
 sity-bielefeld-social-anthropology-2026
END:VEVENT
END:VCALENDAR
