BEGIN:VCALENDAR
VERSION:2.0
PRODID:-//Plone.org//NONSGML plone.app.event//EN
X-WR-TIMEZONE:Europe/Berlin
BEGIN:VEVENT
SUMMARY:Open Rank Professur
DTSTART;TZID=Europe/Berlin;VALUE=DATE-TIME:20260109T110000
DTEND;TZID=Europe/Berlin;VALUE=DATE-TIME:20260215T235500
DTSTAMP;VALUE=DATE-TIME:20260423T142041Z
UID:88e8fb09d2704bbabaaf50b35ae194f4-en@www.evifa.de
CONTACT:https://www.philhist.unibe.ch/ueber_uns/organisation__dienstleistu
 ngen/ausschreibungen/ausschreibung_open_rank_professur_sozialanthropologie
 /index_ger.html
CREATED;VALUE=DATE-TIME:20260109T103814Z
DESCRIPTION:Am Department für Sozialanthropologie und Kulturwissenschaftl
 iche Studien der Universität Bern ist eine Professur (100%\, Open Rank) f
 ür Sozialanthropologie zum 01. August 2021 zu besetzen. Bewerbungsfrist: 
 15. Februar 2026.
LAST-MODIFIED;VALUE=DATE-TIME:20260109T133706Z
LOCATION:Bern
URL:https://www.evifa.de/en/assets/news/meldungen/open-rank-professur-univ
 ersitaet-bern-2026
END:VEVENT
BEGIN:VTIMEZONE
TZID:Europe/Berlin
X-LIC-LOCATION:Europe/Berlin
BEGIN:STANDARD
DTSTART;VALUE=DATE-TIME:20251026T020000
TZNAME:CET
TZOFFSETFROM:+0200
TZOFFSETTO:+0100
END:STANDARD
END:VTIMEZONE
END:VCALENDAR
