BEGIN:VCALENDAR
VERSION:2.0
PRODID:-//Plone.org//NONSGML plone.app.event//EN
X-WR-TIMEZONE:Europe/Berlin
BEGIN:VEVENT
SUMMARY:Museum Education
DTSTART;VALUE=DATE:20211007
DTEND;VALUE=DATE:20211102
DTSTAMP;VALUE=DATE-TIME:20260419T222947Z
UID:b96cd893f85a4e0ca51fc90c941b1271-en@www.evifa.de
CONTACT:Elee Wood\, PhD\, eleejwood@gmail.com\, https://docs.google.com/do
 cument/d/11SWdVEx1FWaX6ZNeVA4ZKMx2wE5a-oFLMn8d1ednSOY/edit?usp=sharing
CREATED;VALUE=DATE-TIME:20211007T080659Z
DESCRIPTION:Edited Volume „A New Role for Museum Education: Purpose\, Ap
 proach\, and Mindset“. Deadline: 01.11.2021
LAST-MODIFIED;VALUE=DATE-TIME:20211007T095934Z
URL:https://www.evifa.de/en/assets/news/meldungen/museum-education
END:VEVENT
END:VCALENDAR
