BEGIN:VCALENDAR
VERSION:2.0
PRODID:-//Plone.org//NONSGML plone.app.event//EN
X-WR-TIMEZONE:Europe/Berlin
BEGIN:VEVENT
SUMMARY:10. Interdisziplinärer Workshop "Kritische Sexarbeitsforschung"
DTSTART;VALUE=DATE:20240527
DTEND;VALUE=DATE:20240801
DTSTAMP;VALUE=DATE-TIME:20260422T111005Z
UID:0f168eadfee8437dbc6a56b8404dad02-en@www.evifa.de
CONTACT:veranstaltung@gspf.info\, https://gspf.info/veranstaltungen/9-work
 shop-kritische-sexarbeitsforschung/
CREATED;VALUE=DATE-TIME:20240527T115604Z
DESCRIPTION:Call for Contributions zum 10. Interdisziplinären Workshop "K
 ritische Sexarbeitsforschung" der am 15. bis 16. November 2024\, online st
 att findet. Deadline: 31.07.2024
LAST-MODIFIED;VALUE=DATE-TIME:20240527T115930Z
LOCATION:Online
URL:https://www.evifa.de/en/assets/news/meldungen/10-interdisziplinaerer-w
 orkshop-kritische-sexarbeitsforschung
END:VEVENT
END:VCALENDAR
