BEGIN:VCALENDAR
VERSION:2.0
PRODID:-//Plone.org//NONSGML plone.app.event//EN
X-WR-TIMEZONE:Europe/Berlin
BEGIN:VEVENT
SUMMARY:Wiss. Informationsmanager*in
DTSTART;VALUE=DATE:20221201
DTEND;VALUE=DATE:20230116
DTSTAMP;VALUE=DATE-TIME:20260420T111440Z
UID:42c3e839b8354f23bf4d73d7f365fd27-en@www.evifa.de
CONTACT:Barbara Bauer\, barbara.bauer@rub.de\, https://jobs.ruhr-uni-bochu
 m.de/jobposting/fd6bfd9f1a98b35b80605fb6e885781d5a86f50d0
CREATED;VALUE=DATE-TIME:20221201T142214Z
DESCRIPTION:Für die Universitätsbibliothek der @ruhrunibochum Bereich Ge
 istes- und Gesellschaftswissenschaften und für das Digital Humanities Cen
 ter (befristet\, Vollzeit)\; Bewerbungsfrist: 15. Januar 2023
LAST-MODIFIED;VALUE=DATE-TIME:20231026T085937Z
LOCATION:Bochum
URL:https://www.evifa.de/en/assets/news/archive/wissenschaftliche-n-inform
 ationsmanager-in
END:VEVENT
END:VCALENDAR
