BEGIN:VCALENDAR
VERSION:2.0
PRODID:-//Plone.org//NONSGML plone.app.event//EN
X-WR-TIMEZONE:Europe/Berlin
BEGIN:VEVENT
SUMMARY:Wiss. Mitarbeiter*innen
DTSTART;VALUE=DATE:20230615
DTEND;VALUE=DATE:20230704
DTSTAMP;VALUE=DATE-TIME:20260423T091923Z
UID:cee07173827b4e1a878c2622548e29f2-en@www.evifa.de
CONTACT:Peter Wibbeling\, +49 40 42838-4632\, peter.wibbeling@uni-hamburg.
 de\, https://www.uni-hamburg.de/stellenangebote/ausschreibung.html?jobID=6
 a643d41a52a9111898dd16b8423578c13912043
CREATED;VALUE=DATE-TIME:20230615T081401Z
DESCRIPTION:3 Stellen (EGR. 13 TV-L\, 75 %) im Projekt „Zukünfte der Na
 chhaltigkeit: Modernisierung\, Transformation\, Kontrolle (DFG)“ an der 
 Fakultät für Wirtschafts- und Sozialwissenschaften der Universität Hamb
 urg @unihh \; Bewerbungsfrist: 3. Juli 2023
LAST-MODIFIED;VALUE=DATE-TIME:20231026T091642Z
LOCATION:Hamburg
URL:https://www.evifa.de/en/assets/news/archive/wiss-mitarbeiter-innen-1
END:VEVENT
END:VCALENDAR
