BEGIN:VCALENDAR
VERSION:2.0
PRODID:-//Plone.org//NONSGML plone.app.event//EN
X-WR-TIMEZONE:Europe/Berlin
BEGIN:VEVENT
SUMMARY:Wiss. Mitarbeiter*in
DTSTART;VALUE=DATE:20230516
DTEND;VALUE=DATE:20230610
DTSTAMP;VALUE=DATE-TIME:20260423T193311Z
UID:b4e4834fdbdd42a38867420dc643aa52-en@www.evifa.de
CONTACT:Frau Dr. Kati Mozygemba\, 218 57052\, kati.mozygemba@uni-bremen.de
 \, https://www.qualiservice.org/de/
CREATED;VALUE=DATE-TIME:20230516T085704Z
DESCRIPTION:2 Stellen an der Universität Bremen @UniBremen im Forschungsd
 atenzentrum (FDZ) Qualiservice unter der Leitung von Prof. Dr. Betina Holl
 stein (50 %\, Entgeltgruppe 13 TV-L)\; Bewerbungsfrist: 9. Juni 2023
LAST-MODIFIED;VALUE=DATE-TIME:20231026T091617Z
LOCATION:Bremen
URL:https://www.evifa.de/en/assets/news/archive/wiss-mitarbeiter-in-88
END:VEVENT
END:VCALENDAR
