BEGIN:VCALENDAR
VERSION:2.0
PRODID:-//Plone.org//NONSGML plone.app.event//EN
X-WR-TIMEZONE:Europe/Berlin
BEGIN:VEVENT
SUMMARY:Wiss. Mitarbeiter*in
DTSTART;VALUE=DATE:20230216
DTEND;VALUE=DATE:20230315
DTSTAMP;VALUE=DATE-TIME:20260420T170902Z
UID:86024beab7714d79ae954f5ce319d201-en@www.evifa.de
CONTACT:Herr Dr. Appl\, 0941/9100-1380\, https://www.bezirk-oberpfalz.de/b
 ezirk-verwaltung/stellenausschreibungen/fuer-unsere-kultur-und-heimatpfleg
 e-suchen-wir-zum-naechstmoeglichen-zeitpunkt-einen-wissenschaftlichen-mita
 rbeiter-m-w-d-fuer-den-bereich-kultur-und-heimatpflege-in-teilzeit
CREATED;VALUE=DATE-TIME:20230216T103144Z
DESCRIPTION:Für den Bereich Kultur-und Heimatpflege des Bezirks Oberpfalz
  in Teilzeit\; Bewerbungsfrist: 14.März 2023
LAST-MODIFIED;VALUE=DATE-TIME:20231026T091618Z
URL:https://www.evifa.de/en/assets/news/archive/wiss-mitarbeiter-in-81
END:VEVENT
END:VCALENDAR
