BEGIN:VCALENDAR
VERSION:2.0
PRODID:-//Plone.org//NONSGML plone.app.event//EN
X-WR-TIMEZONE:Europe/Berlin
BEGIN:VEVENT
SUMMARY:Wiss. Mitarbeiter*in
DTSTART;VALUE=DATE:20221122
DTEND;VALUE=DATE:20221203
DTSTAMP;VALUE=DATE-TIME:20260420T025151Z
UID:3358c9ce10e6448aa50c8d2e6b54637a-en@www.evifa.de
CONTACT:Elisabeth.Timm@uni-muenster.de
CREATED;VALUE=DATE-TIME:20221122T100315Z
DESCRIPTION:Im Institut für Kulturanthropologie/Europäische Ethnologie i
 m Fachbereich 8 (Geschichte/ Philosophie) der WWU @WWU_Muenster (unbefrist
 et\; 100%\; E 13 TV-L)\; Bewerbungsfrist: 2. Dezember 2022
LAST-MODIFIED;VALUE=DATE-TIME:20231026T085900Z
LOCATION:Münster
URL:https://www.evifa.de/en/assets/news/archive/wiss-mitarbeiter-in-67
END:VEVENT
END:VCALENDAR
