BEGIN:VCALENDAR
VERSION:2.0
PRODID:-//Plone.org//NONSGML plone.app.event//EN
X-WR-TIMEZONE:Europe/Berlin
BEGIN:VEVENT
SUMMARY:Universitätsassistent*in
DTSTART;VALUE=DATE:20230328
DTEND;VALUE=DATE:20230411
DTSTAMP;VALUE=DATE-TIME:20260423T233858Z
UID:7a0e1ef4f9804f3b9c89a20acd54d574-en@www.evifa.de
CONTACT:Brigitta Schmidt-Lauber\, +43-1-4277-44002\, brigitta.schmidt-laub
 er@univie.ac.at\, http://jobcenter.univie.ac.at/
CREATED;VALUE=DATE-TIME:20230328T092446Z
DESCRIPTION:An der Universität Wien @univienna ab 01.09.2023 am Institut 
 für Europäische Ethnologie vom 01.09.2023 bis 31.08.2029 zu besetzen\; B
 ewerbungsfrist: 10. April 2023
LAST-MODIFIED;VALUE=DATE-TIME:20231026T091555Z
LOCATION:Wien
URL:https://www.evifa.de/en/assets/news/archive/universitaetsassistent-in-
 1
END:VEVENT
END:VCALENDAR
