BEGIN:VCALENDAR
VERSION:2.0
PRODID:-//Plone.org//NONSGML plone.app.event//EN
X-WR-TIMEZONE:Europe/Berlin
BEGIN:VEVENT
SUMMARY:Projektmanger*in
DTSTART;VALUE=DATE:20230516
DTEND;VALUE=DATE:20230522
DTSTAMP;VALUE=DATE-TIME:20260423T032156Z
UID:25e42fa71d8d4c26b44a1e69e1fb960f-en@www.evifa.de
CONTACT:Dr. Sung-Joon Park\, sung.park@bnitm.de
CREATED;VALUE=DATE-TIME:20230516T083735Z
DESCRIPTION:Die Arbeitsgruppe Medizinanthropologie des Bernhard-Nocht-Inst
 itut für Tropenmedizin (BNITM) @BNITM_de sucht eine Verstärkung im Proje
 ktmanagement zum nächstmöglichen Zeitpunkt (EG 11 TV-AVH)\; Bewerbungsfr
 ist: 21. Mai 2023
LAST-MODIFIED;VALUE=DATE-TIME:20231026T091610Z
LOCATION:Hamburg
URL:https://www.evifa.de/en/assets/news/archive/projektmanger-in
END:VEVENT
END:VCALENDAR
