BEGIN:VCALENDAR
VERSION:2.0
PRODID:-//Plone.org//NONSGML plone.app.event//EN
X-WR-TIMEZONE:Europe/Berlin
BEGIN:VEVENT
SUMMARY:Postdoc-Stelle
DTSTART;VALUE=DATE:20230531
DTEND;VALUE=DATE:20230624
DTSTAMP;VALUE=DATE-TIME:20260425T201214Z
UID:79aaac9b3bf04b478cc3ed50785ce800-en@www.evifa.de
CONTACT:https://www.uni-bremen.de/universitaet/die-uni-als-arbeitgeber/off
 ene-stellen/job/2486?cHash=242803346d16a887611144514ab3591e
CREATED;VALUE=DATE-TIME:20230531T134506Z
DESCRIPTION:Im Forschungsdatenzentrum Qualiservice an der Universität Bre
 men @UniBremen zum nächstmöglichen Zeitpunkt befristet bis zum 30. Septe
 mber 2025 besetzen\; Bewerbungsfrist: 23. Juni 2023
LAST-MODIFIED;VALUE=DATE-TIME:20231026T091613Z
LOCATION:Bremen
URL:https://www.evifa.de/en/assets/news/archive/postdoc-stelle-1
END:VEVENT
END:VCALENDAR
