BEGIN:VCALENDAR
VERSION:2.0
PRODID:-//Plone.org//NONSGML plone.app.event//EN
X-WR-TIMEZONE:Europe/Berlin
BEGIN:VEVENT
SUMMARY:Post-Doctoral Researcher
DTSTART;TZID=Europe/Berlin;VALUE=DATE-TIME:20230509T100000
DTEND;TZID=Europe/Berlin;VALUE=DATE-TIME:20230509T110000
DTSTAMP;VALUE=DATE-TIME:20260422T075933Z
UID:d9238b0fdba64d7d994d06ebf5c6099d-en@www.evifa.de
CONTACT:Prof. Dr. Stephan Scheel\, stephan.scheel@leuphana.de\, https://ww
 w.leuphana.de/en/university/open-positions/research-teaching/eng-ansicht-f
 orschung-lehre/2023/03/14/post-doctoral-researcher-m-f-d-digid-indonesia.h
 tml
CREATED;VALUE=DATE-TIME:20230509T082228Z
DESCRIPTION:Case study Indonesia for “DigID – Doing Digital Identities
 ” at Leuphana University of Lüneburg @Leuphana_Uni funded by the Europe
 an Research Council (ERC)\, salary group EG 13 TV-L\, 100%\; application d
 eadline: 22 May 2023
LAST-MODIFIED;VALUE=DATE-TIME:20231026T091626Z
LOCATION:Lüneburg
URL:https://www.evifa.de/en/assets/news/archive/post-doctoral-researcher-1
END:VEVENT
BEGIN:VTIMEZONE
TZID:Europe/Berlin
X-LIC-LOCATION:Europe/Berlin
BEGIN:DAYLIGHT
DTSTART;VALUE=DATE-TIME:20230326T030000
TZNAME:CEST
TZOFFSETFROM:+0100
TZOFFSETTO:+0200
END:DAYLIGHT
END:VTIMEZONE
END:VCALENDAR
