BEGIN:VCALENDAR
VERSION:2.0
PRODID:-//Plone.org//NONSGML plone.app.event//EN
X-WR-TIMEZONE:Europe/Berlin
BEGIN:VEVENT
SUMMARY:PhD position
DTSTART;VALUE=DATE:20230420
DTEND;VALUE=DATE:20230610
DTSTAMP;VALUE=DATE-TIME:20260421T034250Z
UID:893ed189256b4f5a9d1cc54f6ba7fbca-en@www.evifa.de
CONTACT:Dr. Bianca Vienni Baptista\, +41 44 632 64 22\, bianca.vienni@usys
 .ethz.ch
CREATED;VALUE=DATE-TIME:20230420T145855Z
DESCRIPTION:In science and technology studies (100%\, 4 years)\, ETH Züri
 ch @ETH\; deadline: 9 June 2023
LAST-MODIFIED;VALUE=DATE-TIME:20231026T091603Z
LOCATION:Zürich
URL:https://www.evifa.de/en/assets/news/archive/phd-position-2
END:VEVENT
END:VCALENDAR
