BEGIN:VCALENDAR
VERSION:2.0
PRODID:-//Plone.org//NONSGML plone.app.event//EN
X-WR-TIMEZONE:Europe/Berlin
BEGIN:VEVENT
SUMMARY:Leakage
DTSTART;VALUE=DATE:20240319
DTEND;VALUE=DATE:20240323
DTSTAMP;VALUE=DATE-TIME:20260421T045104Z
UID:23cb97e4ede94e67af0775ea7a2a6989-en@www.evifa.de
CONTACT:https://sts-leakage.org/
CREATED;VALUE=DATE-TIME:20230719T135910Z
DESCRIPTION:Call for Papers for the Inaugural stsing e.V. Conference at TU
  Dresden\, March 19-22\, 2024\; Submission Deadline:  October 15\, 2023
LAST-MODIFIED;VALUE=DATE-TIME:20231026T091645Z
LOCATION:Dresden
URL:https://www.evifa.de/en/assets/news/archive/leakage
END:VEVENT
END:VCALENDAR
