BEGIN:VCALENDAR
VERSION:2.0
PRODID:-//Plone.org//NONSGML plone.app.event//EN
X-WR-TIMEZONE:Europe/Berlin
BEGIN:VEVENT
SUMMARY:Call for Papers
DTSTART;VALUE=DATE:20230328
DTEND;VALUE=DATE:20230501
DTSTAMP;VALUE=DATE-TIME:20260425T201213Z
UID:03801666ab1a4440ae21bf965746b162-en@www.evifa.de
CONTACT:frictions@sfb1187.uni-siegen.de
CREATED;VALUE=DATE-TIME:20230328T112455Z
DESCRIPTION:Digital Culture & Society invites submissions for Special Issu
 e "Frictions. Conflicts\, Controversies and Design Alternatives in Digital
  Valuation"\; deadline for abstract submissions: 30 April 2023
LAST-MODIFIED;VALUE=DATE-TIME:20231026T091639Z
URL:https://www.evifa.de/en/assets/news/archive/call-for-papers-17
END:VEVENT
END:VCALENDAR
