BEGIN:VCALENDAR
VERSION:2.0
PRODID:-//Plone.org//NONSGML plone.app.event//EN
X-WR-TIMEZONE:Europe/Berlin
BEGIN:VEVENT
SUMMARY:Call for fellows
DTSTART;VALUE=DATE:20230413
DTEND;VALUE=DATE:20230513
DTSTAMP;VALUE=DATE-TIME:20260423T032157Z
UID:ea76e89a6ef240f39382f0fe71336dc3-en@www.evifa.de
CONTACT:https://inherit.hu-berlin.de/
CREATED;VALUE=DATE-TIME:20230413T082212Z
DESCRIPTION:The new Käte Hamburger Centre for Advanced Study inHerit. Her
 itage in Transformation @HumboldtUni invites applications from post-doc re
 searchers for fellowships to begin in 2024\; application deadline: 12 May 
 2023
LAST-MODIFIED;VALUE=DATE-TIME:20231026T091611Z
LOCATION:Berlin
URL:https://www.evifa.de/en/assets/news/archive/call-for-fellows
END:VEVENT
END:VCALENDAR
