BEGIN:VCALENDAR
VERSION:2.0
PRODID:-//Plone.org//NONSGML plone.app.event//EN
X-WR-TIMEZONE:Europe/Berlin
BEGIN:VEVENT
SUMMARY:Assistenz
DTSTART;VALUE=DATE:20230127
DTEND;VALUE=DATE:20230214
DTSTAMP;VALUE=DATE-TIME:20260420T043635Z
UID:d7ff6c136af54995988b3ab6366f5b91-en@www.evifa.de
CONTACT:https://www.eume-berlin.de
CREATED;VALUE=DATE-TIME:20230127T172939Z
DESCRIPTION:Das Forum @transregionalis sucht für seine Geschäftsstelle i
 n Berlin für das Programm Europa im Nahen Osten—Der Nahe Osten in Europ
 a (EUME) eine Assistenz (m/w/d)\, TV-L E9b\, 75%\; Frist: 13. Februar 2023
LAST-MODIFIED;VALUE=DATE-TIME:20231026T085940Z
LOCATION:Berlin
URL:https://www.evifa.de/en/assets/news/archive/assistenz
END:VEVENT
END:VCALENDAR
