BEGIN:VCALENDAR
VERSION:2.0
PRODID:-//Plone.org//NONSGML plone.app.event//EN
X-WR-TIMEZONE:Europe/Berlin
BEGIN:VEVENT
SUMMARY:Wissenschaftliche*r Mitarbeiter*in
DTSTART;VALUE=DATE:20210720
DTEND;VALUE=DATE:20210810
DTSTAMP;VALUE=DATE-TIME:20260423T102831Z
UID:54e20d9c3ed245a28eab8e6b25b1d2df-de@www.evifa.de
CONTACT:Prof. Dr. Andreas Schmidt\, +49 431 880-3184
CREATED;VALUE=DATE-TIME:20210716T154347Z
DESCRIPTION:Am Seminar für Europäische Ethnologie/Volkskunde der Christi
 an-Albrechts-Universität zu Kiel ist die Stelle als wissenschaftliche*r M
 itarbeiter*in (prae-/postdoc) zu besetzen\; Frist 09. August 2021
LAST-MODIFIED;VALUE=DATE-TIME:20210831T173225Z
LOCATION:Kiel
URL:https://www.evifa.de/de/assets/news/meldungen/wissenschaftliche-r-mita
 rbeiter-in-72
END:VEVENT
END:VCALENDAR
