BEGIN:VCALENDAR
VERSION:2.0
PRODID:-//Plone.org//NONSGML plone.app.event//EN
X-WR-TIMEZONE:Europe/Berlin
BEGIN:VEVENT
SUMMARY:Schlager erforschen – kulturwissenschaftliche  Perspektiven auf 
 ein populäres Phänomen
DTSTART;VALUE=DATE:20190611
DTEND;VALUE=DATE:20191001
DTSTAMP;VALUE=DATE-TIME:20260422T091520Z
UID:60eed062cc0f4c039e5914483b9615e3-de@www.evifa.de
CONTACT:Dr. Dr. Michael Fischer  und Dr. Johannes Müske\, johannes.mueske
 @zpkm.uni-freiburg.de und michael.fischer@zpkm.uni-freiburg.de
CREATED;VALUE=DATE-TIME:20190611T084804Z
DESCRIPTION:Interdisziplinärer Workshop Zentrum für Populäre Kultur und
  Musik\, Universität Freiburg Datum: 31.1./1.2.2020
LAST-MODIFIED;VALUE=DATE-TIME:20210831T172951Z
LOCATION:Universität Freiburg
URL:https://www.evifa.de/de/assets/news/meldungen/schlager-erforschen-kult
 urwissenschaftliche-perspektiven-auf-ein-populaeres-phaenomen
END:VEVENT
END:VCALENDAR
