BEGIN:VCALENDAR
VERSION:2.0
PRODID:-//Plone.org//NONSGML plone.app.event//EN
X-WR-TIMEZONE:Europe/Berlin
BEGIN:VEVENT
SUMMARY:PostDoc Position
DTSTART;VALUE=DATE:20240624
DTEND;VALUE=DATE:20240720
DTSTAMP;VALUE=DATE-TIME:20260423T091119Z
UID:e548e748e71243f4a5fb718a61430477-de@www.evifa.de
CONTACT:Prof. Dr. Minh Nguyen\, 0521 106-3719\, minh.nguyen@uni-bielefeld.
 de\, https://uni-bielefeld.hr4you.org/job/view/3539/research-position-post
 doc?page_lang=en
CREATED;VALUE=DATE-TIME:20240624T141515Z
DESCRIPTION:The Social Anthropology Working Group in Bielefeld University\
 , Germany\, is recruiting for a post-doctoral research position (100%\, 3 
 years) in Social Anthropology. Deadline for application: 19th July 2024
LAST-MODIFIED;VALUE=DATE-TIME:20240624T141602Z
LOCATION:Bielefeld
URL:https://www.evifa.de/de/assets/news/meldungen/postdoc-bielefeld-social
 anthropology-2024
END:VEVENT
END:VCALENDAR
