BEGIN:VCALENDAR
VERSION:2.0
PRODID:-//Plone.org//NONSGML plone.app.event//EN
X-WR-TIMEZONE:Europe/Berlin
BEGIN:VEVENT
SUMMARY:Crafting Critical Methodologies in Computing
DTSTART;VALUE=DATE:20200120
DTEND;VALUE=DATE:20200301
DTSTAMP;VALUE=DATE-TIME:20260422T093934Z
UID:970f46ff69ec4d88b91e88255e64fc5f-de@www.evifa.de
CONTACT:claude.draude@uni-kassel.de\, https://convention2.allacademic.com/
 one/ssss/prague20/.
CREATED;VALUE=DATE-TIME:20200120T084435Z
DESCRIPTION:Die Organisator*innen des Panels „Crafting Critical Methodol
 ogies in Computing: theories\, practices and future directions“\, Loren 
 Britton\, Claude Draude sowie Goda Klumbyte (Universität Kassel) und Juli
 ane Jarke (Universität Bremen) laden zu Beitragsvorschlägen sein.
LAST-MODIFIED;VALUE=DATE-TIME:20210831T173026Z
LOCATION:Prague
URL:https://www.evifa.de/de/assets/news/meldungen/panel-crafting-critical-
 methodologies-in-computing-4s-easst-18-21-08-2020-prag
END:VEVENT
END:VCALENDAR
