BEGIN:VCALENDAR
VERSION:2.0
PRODID:-//Plone.org//NONSGML plone.app.event//EN
X-WR-TIMEZONE:Europe/Berlin
BEGIN:VEVENT
SUMMARY:Nichtreligion = nicht Religion?
DTSTART;VALUE=DATE:20231208
DTEND;VALUE=DATE:20231210
DTSTAMP;VALUE=DATE-TIME:20260423T170644Z
UID:e5b740117e084d9696d3c4447f15a9e6-de@www.evifa.de
CONTACT:https://www.soziopolis.de/ausschreibungen/call/nichtreligion-nicht
 -religion.html
CREATED;VALUE=DATE-TIME:20230918T172630Z
DESCRIPTION:Call for Abstracts für den Auftaktworkshop des AK Säkulare W
 eltanschauungen am 8./9. Dezember 2023 in Leipzig\; Einreichungsfrist für
  Abstracts: 15.10.2023\, Anmeldefrist für Teilnahme ohne eigenen Beitrag:
  19.11.2023
LAST-MODIFIED;VALUE=DATE-TIME:20230918T173004Z
LOCATION:Leipzig
URL:https://www.evifa.de/de/assets/news/meldungen/nichtreligion-nicht-reli
 gion
END:VEVENT
END:VCALENDAR
