BEGIN:VCALENDAR
VERSION:2.0
PRODID:-//Plone.org//NONSGML plone.app.event//EN
X-WR-TIMEZONE:Europe/Berlin
BEGIN:VEVENT
SUMMARY:Lehrauftrag an der Leuphana Universität Lüneburg
DTSTART;VALUE=DATE:20260310
DTEND;VALUE=DATE:20260330
DTSTAMP;VALUE=DATE-TIME:20260419T233300Z
UID:84dfdcab4aba4f82b17299e52771c213-de@www.evifa.de
CREATED;VALUE=DATE-TIME:20260310T125808Z
DESCRIPTION:Die Leuphana Universität schreibt für das interdisziplinäre
  Transformationsmodul im Wintersemester 2026/27 verschiedene Lehraufträge
  aus. Bewerbungsfrist: 29.03.2026
LAST-MODIFIED;VALUE=DATE-TIME:20260310T130104Z
LOCATION:Lüneburg
URL:https://www.evifa.de/de/assets/news/meldungen/lehrauftrag-an-der-leuph
 ana-universitaet-lueneburg-wise-2026-2027
END:VEVENT
END:VCALENDAR
