BEGIN:VCALENDAR
VERSION:2.0
PRODID:-//Plone.org//NONSGML plone.app.event//EN
X-WR-TIMEZONE:Europe/Berlin
BEGIN:VEVENT
SUMMARY:Lecture Series
DTSTART;TZID=Europe/Berlin;VALUE=DATE-TIME:20230413T181500
DTEND;TZID=Europe/Berlin;VALUE=DATE-TIME:20230413T194500
DTSTAMP;VALUE=DATE-TIME:20260423T001044Z
UID:97930f427306469c8fe091bb1f498f1a-de@www.evifa.de
RRULE:FREQ=WEEKLY;COUNT=15;BYDAY=TH
RDATE;TZID=Europe/Berlin:20230510T000000
EXDATE;TZID=Europe/Berlin:20230518T000000,20230601T000000,20230608T000000
CONTACT:baltic-peripeties@uni-greifswald.de
CREATED;VALUE=DATE-TIME:20230403T094736Z
DESCRIPTION:"Interdisciplinary Approaches to the Baltic Sea Region – Spo
 tlight on Marine Governance & Environmental Change"\; University of Greifs
 wald @uni_greifswald\, Alfried Krupp Wissenschaftskolleg Greifswald @wiko_
 greifswald & online\; Thursdays\, 18.15 - 19.45
LAST-MODIFIED;VALUE=DATE-TIME:20230403T095115Z
LOCATION:Greifswald & online
URL:https://www.evifa.de/de/assets/news/meldungen/kalender-news/lecture-se
 ries-2
END:VEVENT
BEGIN:VTIMEZONE
TZID:Europe/Berlin
X-LIC-LOCATION:Europe/Berlin
BEGIN:DAYLIGHT
DTSTART;VALUE=DATE-TIME:20230326T030000
TZNAME:CEST
TZOFFSETFROM:+0100
TZOFFSETTO:+0200
END:DAYLIGHT
END:VTIMEZONE
END:VCALENDAR
