BEGIN:VCALENDAR
VERSION:2.0
PRODID:-//Plone.org//NONSGML plone.app.event//EN
X-WR-TIMEZONE:Europe/Berlin
BEGIN:VEVENT
SUMMARY:Lecture Series
DTSTART;TZID=Europe/Berlin;VALUE=DATE-TIME:20211116T181500
DTEND;TZID=Europe/Berlin;VALUE=DATE-TIME:20211116T194500
DTSTAMP;VALUE=DATE-TIME:20260421T173031Z
UID:9b4afbcd406f4e73b9ad0ffb4fd1ff83-de@www.evifa.de
RRULE:FREQ=WEEKLY;UNTIL=20220201T000000
RDATE;TZID=Europe/Berlin:20220201T000000
EXDATE;TZID=Europe/Berlin:20211123T000000,20211221T000000,20211228T000000,
 20220104T000000,20220125T000000
CREATED;VALUE=DATE-TIME:20211105T120540Z
DESCRIPTION:Onlinevorträge und -diskussionen der Lecture Series „Sea is
  rising - and so are we? Climate change and socioecological transformation
 “\, dienstags\, 18:15 Uhr @UniBremen #EnvironmentalDestruction #ClimateC
 hange #Colonialism
LAST-MODIFIED;VALUE=DATE-TIME:20211112T112247Z
URL:https://www.evifa.de/de/assets/news/meldungen/kalender-news/lecture-se
 ries-1
END:VEVENT
BEGIN:VTIMEZONE
TZID:Europe/Berlin
X-LIC-LOCATION:Europe/Berlin
BEGIN:STANDARD
DTSTART;VALUE=DATE-TIME:20211031T020000
TZNAME:CET
TZOFFSETFROM:+0200
TZOFFSETTO:+0100
END:STANDARD
END:VTIMEZONE
END:VCALENDAR
