BEGIN:VCALENDAR
VERSION:2.0
PRODID:-//Plone.org//NONSGML plone.app.event//EN
X-WR-TIMEZONE:Europe/Berlin
BEGIN:VEVENT
SUMMARY:Freedom of Movement?
DTSTART;TZID=Europe/Berlin;VALUE=DATE-TIME:20210924T091500
DTEND;TZID=Europe/Berlin;VALUE=DATE-TIME:20210924T180000
DTSTAMP;VALUE=DATE-TIME:20260423T194159Z
UID:734199a1f5004f0b81dd7bafb9e81726-de@www.evifa.de
CONTACT:Polina Manolova\, polina.manolova@uni-tuebingen.de\, http://eumign
 et.de/
CREATED;VALUE=DATE-TIME:20210920T084757Z
DESCRIPTION:Online Workshop:"Freedom of Movement? Intra-EU Regimes of Migr
 ation\, Labour and Social Reproduction"\, 24.09.2021
LAST-MODIFIED;VALUE=DATE-TIME:20210920T084816Z
URL:https://www.evifa.de/de/assets/news/meldungen/kalender-news/freedom-of
 -movement
END:VEVENT
BEGIN:VTIMEZONE
TZID:Europe/Berlin
X-LIC-LOCATION:Europe/Berlin
BEGIN:DAYLIGHT
DTSTART;VALUE=DATE-TIME:20210328T030000
TZNAME:CEST
TZOFFSETFROM:+0100
TZOFFSETTO:+0200
END:DAYLIGHT
END:VTIMEZONE
END:VCALENDAR
