BEGIN:VCALENDAR
VERSION:2.0
PRODID:-//Plone.org//NONSGML plone.app.event//EN
X-WR-TIMEZONE:Europe/Berlin
BEGIN:VEVENT
SUMMARY:Berlin Anthropology Seminars
DTSTART;TZID=Europe/Berlin;VALUE=DATE-TIME:20221109T160000
DTEND;TZID=Europe/Berlin;VALUE=DATE-TIME:20221109T180000
DTSTAMP;VALUE=DATE-TIME:20260422T205917Z
UID:f880e7d62f104487883a25d91a9c38c1-de@www.evifa.de
RRULE:FREQ=WEEKLY;COUNT=15;BYDAY=WE
EXDATE;TZID=Europe/Berlin:20221116T000000,20221130T000000,20221207T000000,
 20221214T000000,20221221T000000,20221228T000000,20230104T000000,20230118T0
 00000,20230201T000000,20230215T000000
CONTACT:m.oschwald@fu-berlin.de\, https://www.polsoz.fu-berlin.de/ethnolog
 ie/aktuelles/BAS_W22_23.html
CREATED;VALUE=DATE-TIME:20221104T160605Z
DESCRIPTION:Gemeinsame Initiative von Anthropolog*innen der @FU_Berlin\, d
 es @ZMO_Berlin und des Ethnologischen Museums @kulturSPK findet vom 09/11/
 22 - 08/02/2023\, mittwochs\, 16-18 Uhr\, vor Ort  und online statt
LAST-MODIFIED;VALUE=DATE-TIME:20221104T161012Z
LOCATION:Berlin
URL:https://www.evifa.de/de/assets/news/meldungen/kalender-news/berlin-ant
 hropology-seminars-1
END:VEVENT
BEGIN:VTIMEZONE
TZID:Europe/Berlin
X-LIC-LOCATION:Europe/Berlin
BEGIN:STANDARD
DTSTART;VALUE=DATE-TIME:20221030T020000
TZNAME:CET
TZOFFSETFROM:+0200
TZOFFSETTO:+0100
END:STANDARD
END:VTIMEZONE
END:VCALENDAR
