BEGIN:VCALENDAR
VERSION:2.0
PRODID:-//Plone.org//NONSGML plone.app.event//EN
X-WR-TIMEZONE:Europe/Berlin
BEGIN:VEVENT
SUMMARY:Frobenius Preis
DTSTART;VALUE=DATE:20260330
DTEND;VALUE=DATE:20260702
DTSTAMP;VALUE=DATE-TIME:20260419T193354Z
UID:6a45ed625f8340c3b970f2732d0809c2-de@www.evifa.de
CONTACT:https://www.frobenius-institut.de/kontakt
CREATED;VALUE=DATE-TIME:20260330T115838Z
DESCRIPTION:Auch in diesem Jahr wird der mit 3.000 Euro dotierte Frobenius
 -Forschungsförderungspreis für Dissertationen\, die 2025 oder 2026 im Fa
 ch Ethnologie/Sozial- und Kulturanthropologie abgeschlossen wurden (in Deu
 tsch oder Englisch)\, vergeben. Die Frist für die Vorschläge zur Einreic
 hung ist: 01 Juli 2026
LAST-MODIFIED;VALUE=DATE-TIME:20260330T122910Z
LOCATION:Frankfurt
URL:https://www.evifa.de/de/assets/news/meldungen/frobenius-forschungsfoer
 derungspreis-2026
END:VEVENT
END:VCALENDAR
