BEGIN:VCALENDAR
VERSION:2.0
PRODID:-//Plone.org//NONSGML plone.app.event//EN
X-WR-TIMEZONE:Europe/Berlin
BEGIN:VEVENT
SUMMARY:Contested airport land in the Global South
DTSTART;VALUE=DATE:20210310
DTEND;VALUE=DATE:20210601
DTSTAMP;VALUE=DATE-TIME:20260419T150208Z
UID:c46aa20844e94a38b97ac1d8012732ea-de@www.evifa.de
CONTACT:Dr. Irit Eguavoen\, eguavoen@uni-bonn.de\, https://www.geographie.
 uni-bonn.de/forschung/ags/ag-geographische-entwicklungsforschung/research-
 projects/copy_of_crc-228
CREATED;VALUE=DATE-TIME:20210310T082127Z
DESCRIPTION:Call for contributions to book edition "Contested airport land
  in the Global South" with Sneha Sharma and Irit Eguavoen as initial edito
 rs\, Universität Bonn
LAST-MODIFIED;VALUE=DATE-TIME:20210831T173129Z
URL:https://www.evifa.de/de/assets/news/meldungen/contested-airport-land-i
 n-the-global-south
END:VEVENT
END:VCALENDAR
