BEGIN:VCALENDAR
VERSION:2.0
PRODID:-//Plone.org//NONSGML plone.app.event//EN
X-WR-TIMEZONE:Europe/Berlin
BEGIN:VEVENT
SUMMARY:Special Issue Curare
DTSTART;VALUE=DATE:20251117
DTEND;VALUE=DATE:20251216
DTSTAMP;VALUE=DATE-TIME:20260422T040820Z
UID:bd1372858c8b43479b529e65c722c18f-de@www.evifa.de
CONTACT:https://curarejournal.org/ojs/index.php/cur/index
CREATED;VALUE=DATE-TIME:20251117T125120Z
DESCRIPTION:Call for Papers for the Special Issue "Abortion and Miscarriag
 e: Narratives\, Practices\, Discourses" of the Medical Anthropology Journa
 l "Curare". Deadline for Abstracts: 15 December 2025
LAST-MODIFIED;VALUE=DATE-TIME:20251117T125606Z
URL:https://www.evifa.de/de/assets/news/meldungen/cfp-special-issue-curare
 -abortion-and-miscarriage-2026
END:VEVENT
END:VCALENDAR
