BEGIN:VCALENDAR
VERSION:2.0
PRODID:-//Plone.org//NONSGML plone.app.event//EN
X-WR-TIMEZONE:Europe/Berlin
BEGIN:VEVENT
SUMMARY:Český lid Nr. 4/2022
DTSTART;VALUE=DATE:20211221
DTEND;VALUE=DATE:20220301
DTSTAMP;VALUE=DATE-TIME:20260422T234529Z
UID:8d3b4cfd2907454988a80b7923e024ed-de@www.evifa.de
CONTACT:Martin Šimša | Jana Nosková\, martin.simsa@nulk.cz | noskova@eu
 .cas.cz\, https://ceskylid.avcr.cz/en/home
CREATED;VALUE=DATE-TIME:20211216T120452Z
DESCRIPTION:Open call for the czech anthrpological journal Český lid on 
 "Estate inventories as a source of research into folk culture"\, issue 4/2
 022\; Call for Articles in German or English closes 28 February 2022 #jour
 nal #cfa
LAST-MODIFIED;VALUE=DATE-TIME:20211216T132518Z
URL:https://www.evifa.de/de/assets/news/meldungen/cesky-lid-nr-4-2022
END:VEVENT
END:VCALENDAR
