BEGIN:VCALENDAR
VERSION:2.0
PRODID:-//Plone.org//NONSGML plone.app.event//EN
X-WR-TIMEZONE:Europe/Berlin
BEGIN:VEVENT
SUMMARY:Call for Applications
DTSTART;VALUE=DATE:20230401
DTEND;VALUE=DATE:20241001
DTSTAMP;VALUE=DATE-TIME:20260422T191454Z
UID:620247e7f61d4537a190bcacae876a6e-de@www.evifa.de
CONTACT:Dr. Elisa Iori\, elisa.iori@uni-erfurt.de\, https://urbrel.hypothe
 ses.org/2726
CREATED;VALUE=DATE-TIME:20220603T084201Z
DESCRIPTION:Research Fellowships (3-6 months) between 04/2023 and 09/2024 
 with the KFG "Religion and Urbanity" (FOR 2779) @unierfurt
LAST-MODIFIED;VALUE=DATE-TIME:20220608T144925Z
URL:https://www.evifa.de/de/assets/news/meldungen/call-for-applications
END:VEVENT
END:VCALENDAR
