BEGIN:VCALENDAR
VERSION:2.0
PRODID:-//Plone.org//NONSGML plone.app.event//EN
X-WR-TIMEZONE:Europe/Berlin
BEGIN:VEVENT
SUMMARY:1 x 0\,65 Wiss. Mitarb. „Eine \,Genealogie von Hybridität‘. D
 ie Bedrohten Ordnungen Istriens“
DTSTART;VALUE=DATE:20190605
DTEND;VALUE=DATE:20190613
DTSTAMP;VALUE=DATE-TIME:20260425T054408Z
UID:e1a426d3b68d44b0ac60c447250fac5a-de@www.evifa.de
CONTACT:Prof. Dr. Reinhard Johler\, reinhard.johler@uni-tuebingen.de
CREATED;VALUE=DATE-TIME:20190605T065207Z
DESCRIPTION:An der Eberhard Karls Universität Tübingen\, Sonderforschung
 sbereich 923 „Bedrohte Ordnungen“\, Teilprojekt G03 „Eine \,Genealog
 ie von Hybridität‘. Die Bedrohten Ordnungen Istriens“ ist zum nächst
 möglichen Zeitpunkt die Stelle einer/eines Wissenschaftlichen Mitarbeiter
 in/Mitarbeiters (m/w/d\; Entgeltgruppe 13 TV-L\, 65%) zu besetzen. Die Ste
 lle ist bis zum 30.6.2023 befristet.
LAST-MODIFIED;VALUE=DATE-TIME:20210831T172950Z
LOCATION:Universität Tübingen
URL:https://www.evifa.de/de/assets/news/meldungen/1-x-0-65-wiss-mitarb-ein
 e-genealogie-von-hybriditaet-die-bedrohten-ordnungen-istriens
END:VEVENT
END:VCALENDAR
