BEGIN:VCALENDAR
VERSION:2.0
PRODID:-//Plone.org//NONSGML plone.app.event//EN
X-WR-TIMEZONE:Europe/Berlin
BEGIN:VEVENT
SUMMARY:Wiss. Volontär*in
DTSTART;VALUE=DATE:20230428
DTEND;VALUE=DATE:20230612
DTSTAMP;VALUE=DATE-TIME:20260421T210952Z
UID:9898036980114244a5f4f53f8f8667ef-de@www.evifa.de
CREATED;VALUE=DATE-TIME:20230428T090239Z
DESCRIPTION:Am Landesmuseum Württemberg @LMWStuttgart mit angeschlossener
  Promotion am Ludwig-Uhland-Institut für Empirische Kulturwissenschaft de
 r Eberhard-Karls-Universität Tübingen @uni_tue\; Bewerbungsfrist: 11. Ju
 ni 2023
LAST-MODIFIED;VALUE=DATE-TIME:20231026T085945Z
LOCATION:Stuttgart
URL:https://www.evifa.de/de/assets/news/archive/wiss-volontaer-in-5
END:VEVENT
END:VCALENDAR
