BEGIN:VCALENDAR
VERSION:2.0
PRODID:-//Plone.org//NONSGML plone.app.event//EN
X-WR-TIMEZONE:Europe/Berlin
BEGIN:VEVENT
SUMMARY:Wiss. Volontär*in
DTSTART;VALUE=DATE:20230302
DTEND;VALUE=DATE:20230320
DTSTAMP;VALUE=DATE-TIME:20260423T114607Z
UID:6ae4504799064383809c93a0a2eed35e-de@www.evifa.de
CONTACT:Herr Michael Rahnfeld\, 03841-3045717\, direktion@phantechnikum.de
CREATED;VALUE=DATE-TIME:20230302T150959Z
DESCRIPTION:Für Öffentlichkeitsarbeit & Digitales Sammlungsmanagement am
  Technischen Landesmuseum Mecklenburg-Vorpommern gesucht zum nächstmögli
 chen Zeitpunkt\; Bewerbungsfrist: 19. März 2023
LAST-MODIFIED;VALUE=DATE-TIME:20231026T091546Z
LOCATION:Wismar
URL:https://www.evifa.de/de/assets/news/archive/wiss-volontaer-in-4
END:VEVENT
END:VCALENDAR
