BEGIN:VCALENDAR
VERSION:2.0
PRODID:-//Plone.org//NONSGML plone.app.event//EN
X-WR-TIMEZONE:Europe/Berlin
BEGIN:VEVENT
SUMMARY:Wiss. Mitarbeiter*in
DTSTART;VALUE=DATE:20230302
DTEND;VALUE=DATE:20230325
DTSTAMP;VALUE=DATE-TIME:20260422T081613Z
UID:975387fb5175469ab9832326fd70246a-de@www.evifa.de
CONTACT:Herr Dr. Seefelder\, 0871 97512-731
CREATED;VALUE=DATE-TIME:20230302T114634Z
DESCRIPTION:Beim Bezirk Niederbayern ist für das Referat Kultur- und Heim
 atpflege zum 01.05.2023 eine Stelle für den Aufbau einer Artothek in Teil
 zeit mit 28 Wochenstunden zu besetzen\; Bewerbungsfrist: 24. März 2023
LAST-MODIFIED;VALUE=DATE-TIME:20231026T091636Z
URL:https://www.evifa.de/de/assets/news/archive/wiss-mitarbeiter-in-83
END:VEVENT
END:VCALENDAR
