BEGIN:VCALENDAR
VERSION:2.0
PRODID:-//Plone.org//NONSGML plone.app.event//EN
X-WR-TIMEZONE:Europe/Berlin
BEGIN:VEVENT
SUMMARY:Wiss. Mitarbeiter*in
DTSTART;VALUE=DATE:20230127
DTEND;VALUE=DATE:20230204
DTSTAMP;VALUE=DATE-TIME:20260420T005548Z
UID:6919e91817af407495df811002046bfb-de@www.evifa.de
CONTACT:Prof. Dr. Christine Aka\, aka@kai-om.d
CREATED;VALUE=DATE-TIME:20230127T135853Z
DESCRIPTION:Gesucht für das Kulturanthropologische Institut Oldenburger M
 ünsterland (KAI-OM) im Rahmen des Drittmittelprojektes zum „Faktor K 
 – Forschung zum Faktor Kultur in ländlichen Räumen“\; Bewerbungsfris
 t: 3. Februar 2023
LAST-MODIFIED;VALUE=DATE-TIME:20231026T085932Z
LOCATION:Cloppenburg
URL:https://www.evifa.de/de/assets/news/archive/wiss-mitarbeiter-in-75
END:VEVENT
END:VCALENDAR
