BEGIN:VCALENDAR
VERSION:2.0
PRODID:-//Plone.org//NONSGML plone.app.event//EN
X-WR-TIMEZONE:Europe/Berlin
BEGIN:VEVENT
SUMMARY:Research Position
DTSTART;VALUE=DATE:20221222
DTEND;VALUE=DATE:20230403
DTSTAMP;VALUE=DATE-TIME:20260420T221304Z
UID:1f3760578fda4ebfa2e4048f857ee10b-de@www.evifa.de
CONTACT:office.xiang@eth.mpg.de\, https://recruitingapp-5034.de.umantis.co
 m/Vacancies/454/Description/2
CREATED;VALUE=DATE-TIME:20221214T120139Z
DESCRIPTION:The Department Anthropology of Economic Experimentation @MaxAn
 thropology MPI for Social Anthropology Halle (Saale) is offering a researc
 h position (postdoc) in migration and mobility studies\; deadline 2 April 
 2023
LAST-MODIFIED;VALUE=DATE-TIME:20231026T085923Z
LOCATION:Halle (Saale)
URL:https://www.evifa.de/de/assets/news/archive/research-position-migratio
 n-and-mobility-mpi-halle
END:VEVENT
END:VCALENDAR
