BEGIN:VCALENDAR
VERSION:2.0
PRODID:-//Plone.org//NONSGML plone.app.event//EN
X-WR-TIMEZONE:Europe/Berlin
BEGIN:VEVENT
SUMMARY:Research Fellowship on Blackness and Racialisation in Europe
DTSTART;VALUE=DATE:20230124
DTEND;VALUE=DATE:20230227
DTSTAMP;VALUE=DATE-TIME:20260420T221304Z
UID:762f1f21d1764bf59aa248b339689445-de@www.evifa.de
CONTACT:lukate@mmg.mpg.de\, http://www.mmg.mpg.de/1022063/research-fellow-
 minerva-fast-track?c=114585
CREATED;VALUE=DATE-TIME:20230124T125556Z
DESCRIPTION:The Minerva Fast Track Research Group Migration\, Identity and
  Blackness in Europe @mpimmg is inviting applications for the position of 
 Research Fellow [Postdoctoral] (m/f/d)\; deadline: 26 February 2023
LAST-MODIFIED;VALUE=DATE-TIME:20231026T085929Z
LOCATION:Göttingen
URL:https://www.evifa.de/de/assets/news/archive/research-fellowship-on-bla
 ckness-and-racialisation-in-europe
END:VEVENT
END:VCALENDAR
