BEGIN:VCALENDAR
VERSION:2.0
PRODID:-//Plone.org//NONSGML plone.app.event//EN
X-WR-TIMEZONE:Europe/Berlin
BEGIN:VEVENT
SUMMARY:Qualifizierungsstelle
DTSTART;VALUE=DATE:20230505
DTEND;VALUE=DATE:20230522
DTSTAMP;VALUE=DATE-TIME:20260420T170746Z
UID:68d6d1b65bff4ccf858050c9fec0315f-de@www.evifa.de
CREATED;VALUE=DATE-TIME:20230505T102537Z
DESCRIPTION:Mit dem Ziel der Promotion am Institut für Europäische Ethno
 logie/Kulturwissenschaft der Philipps-Universität\, Prof. Dr. Ina Dietzsc
 h @Uni_MR in Teilzeit (50 %\, E13) zu besetzen\; Bewerbungsfrist: 21. Mai 
 2023
LAST-MODIFIED;VALUE=DATE-TIME:20231026T091609Z
LOCATION:Marburg
URL:https://www.evifa.de/de/assets/news/archive/qualifizierungsstelle
END:VEVENT
END:VCALENDAR
