BEGIN:VCALENDAR
VERSION:2.0
PRODID:-//Plone.org//NONSGML plone.app.event//EN
X-WR-TIMEZONE:Europe/Berlin
BEGIN:VEVENT
SUMMARY:PostDoc-Stelle
DTSTART;VALUE=DATE:20221031
DTEND;VALUE=DATE:20221101
DTSTAMP;VALUE=DATE-TIME:20260419T185459Z
UID:fe65a36071b64f288bf0404ffd6dcf26-de@www.evifa.de
CONTACT:Thomas Thiemeyer\, thomas.thiemeyer@uni-tuebingen.de
CREATED;VALUE=DATE-TIME:20221031T112308Z
DESCRIPTION:Ausgeschrieben im Projekt From the Era of the Witness to Digit
 al Remembrance am Ludwig-Uhland-Institut für Empirische Kulturwissenschaf
 t @uni_tue\; Bewerbungsfrist: 1. Dezember 2022
LAST-MODIFIED;VALUE=DATE-TIME:20231026T085901Z
LOCATION:Tübingen
URL:https://www.evifa.de/de/assets/news/archive/postdoc-stelle
END:VEVENT
END:VCALENDAR
