BEGIN:VCALENDAR
VERSION:2.0
PRODID:-//Plone.org//NONSGML plone.app.event//EN
X-WR-TIMEZONE:Europe/Berlin
BEGIN:VEVENT
SUMMARY:Mitarbeiter*in
DTSTART;VALUE=DATE:20221122
DTEND;VALUE=DATE:20221210
DTSTAMP;VALUE=DATE-TIME:20260421T051249Z
UID:1ff3aa1e7e404bafb463e082ba62c071-de@www.evifa.de
CONTACT:https://recruiting.lwl.org/r/z10t6n29cruxn6l/eine%3An+Mitarbeiter%
 3Ain+wmd+im+Bereich+Wissenschaftskommunikation%2C+Vermittlungs-+und+%C3%96
 ffentlichkeitsarbeit+EG+11+TV%C3%B6D/48147/M%C3%BCnster
CREATED;VALUE=DATE-TIME:20221122T095154Z
DESCRIPTION:Für das LWL-Institut für westfälische Regionalgeschichte @l
 wl_aktuell im Bereich Wissenschaftskommunikation\, Vermittlungs- und Öffe
 ntlichkeitsarbeit (unbefristet\; 19\,5 Stunden\; EG 11 TVöD)\; Bewerbungs
 frist: 9. Dezember 2022
LAST-MODIFIED;VALUE=DATE-TIME:20231026T085919Z
LOCATION:Münster
URL:https://www.evifa.de/de/assets/news/archive/mitarbeiter-in-im-bereich-
 wissenschaftskommunikation-vermittlungs-und-oeffentlichkeitsarbeit
END:VEVENT
END:VCALENDAR
