BEGIN:VCALENDAR
VERSION:2.0
PRODID:-//Plone.org//NONSGML plone.app.event//EN
X-WR-TIMEZONE:Europe/Berlin
BEGIN:VEVENT
SUMMARY:Call for Papers
DTSTART;VALUE=DATE:20230403
DTEND;VALUE=DATE:20230426
DTSTAMP;VALUE=DATE-TIME:20260421T205429Z
UID:c2e20ad08a674c1eb8432c3fdc3d4923-de@www.evifa.de
CONTACT:Antje Buchholz\, 0228 9834-255.\, antje.buchholz@lvr.de
CREATED;VALUE=DATE-TIME:20230403T114717Z
DESCRIPTION:Für die Tagung der Kommission für Film und audiovisuelle Ant
 hropologie in der DGEKW "Wissen ethnografieren. Konstruktion\, Repräsenta
 tion und Zirkulation mittels audiovisueller Medien"\; Frist: 25. April 202
 3
LAST-MODIFIED;VALUE=DATE-TIME:20231026T091624Z
URL:https://www.evifa.de/de/assets/news/archive/call-for-papers-18
END:VEVENT
END:VCALENDAR
