BEGIN:VCALENDAR
VERSION:2.0
PRODID:-//Plone.org//NONSGML plone.app.event//EN
X-WR-TIMEZONE:Europe/Berlin
BEGIN:VEVENT
SUMMARY:Call For Papers
DTSTART;TZID=Europe/Berlin;VALUE=DATE-TIME:20230321T110000
DTEND;TZID=Europe/Berlin;VALUE=DATE-TIME:20230321T120000
DTSTAMP;VALUE=DATE-TIME:20260421T205434Z
UID:41a5c0b67d6742318299cd15bafcaf14-de@www.evifa.de
CONTACT:content@on-culture.org\, https://www.on-culture.org
CREATED;VALUE=DATE-TIME:20230321T102221Z
DESCRIPTION:The editorial team of On_Culture @On_Cult would like to draw y
 our attention to the Call for Abstracts for Issue #16 of On_Culture (Sprin
 g 2024) on "Ways of Reading"\; deadline: 15 May 2023
LAST-MODIFIED;VALUE=DATE-TIME:20231026T091626Z
URL:https://www.evifa.de/de/assets/news/archive/call-for-papers-15
END:VEVENT
BEGIN:VTIMEZONE
TZID:Europe/Berlin
X-LIC-LOCATION:Europe/Berlin
BEGIN:STANDARD
DTSTART;VALUE=DATE-TIME:20221030T020000
TZNAME:CET
TZOFFSETFROM:+0200
TZOFFSETTO:+0100
END:STANDARD
END:VTIMEZONE
END:VCALENDAR
