BEGIN:VCALENDAR
VERSION:2.0
PRODID:-//Plone.org//NONSGML plone.app.event//EN
X-WR-TIMEZONE:Europe/Berlin
BEGIN:VEVENT
SUMMARY:Assistant Professor
DTSTART;VALUE=DATE:20221031
DTEND;VALUE=DATE:20221119
DTSTAMP;VALUE=DATE-TIME:20260420T010030Z
UID:2d8d222c0b1c472b86d3eef7794ce7d1-de@www.evifa.de
CONTACT:chranth@yorku.ca\, http://webapps.yorku.ca/academichiringviewer/vi
 ewposition.jsp?positionnumber=2318
CREATED;VALUE=DATE-TIME:20221031T101705Z
DESCRIPTION:The Department of Anthropology @YorkUniversity invites highly 
 qualified candidates to apply for a professorial-stream tenure track appoi
 ntment in Sociocultural Anthropology at the Assistant Professor level\; ap
 plication deadline 18 November 2022
LAST-MODIFIED;VALUE=DATE-TIME:20231026T085928Z
LOCATION:York
URL:https://www.evifa.de/de/assets/news/archive/assistant-professor-1
END:VEVENT
END:VCALENDAR
