BEGIN:VCALENDAR
VERSION:2.0
PRODID:-//Plone.org//NONSGML plone.app.event//EN
X-WR-TIMEZONE:Europe/Berlin
BEGIN:VEVENT
SUMMARY:AMO LECTURE 2023 with Olufemi Taiwo
DTSTART;TZID=Europe/Berlin;VALUE=DATE-TIME:20230523T181500
DTSTAMP;VALUE=DATE-TIME:20260425T172323Z
UID:10915c09341e445593217356bba351d9-de@www.evifa.de
CONTACT:https://amo-lectures.uni-halle.de/lectures/#rewriting-the-history-
 of-modern-philosophy
CREATED;VALUE=DATE-TIME:20230511T084350Z
DESCRIPTION:Rewriting the History of Modern Philosophy: On Philosophy of H
 istory\, Political Philosophy and Liberal Education in 19th Century West A
 frica\, 23th May 2023\, 6:15 p.m. (CEST)\, hybrid (Halle/Saale & Online) @
 UniHalle
LAST-MODIFIED;VALUE=DATE-TIME:20231026T091557Z
LOCATION:hybrid (Halle/Saale & Online)
URL:https://www.evifa.de/de/assets/news/archive/amo-lecture-2023-with-oluf
 emi-taiwo
END:VEVENT
BEGIN:VTIMEZONE
TZID:Europe/Berlin
X-LIC-LOCATION:Europe/Berlin
BEGIN:DAYLIGHT
DTSTART;VALUE=DATE-TIME:20230326T030000
TZNAME:CEST
TZOFFSETFROM:+0100
TZOFFSETTO:+0200
END:DAYLIGHT
END:VTIMEZONE
END:VCALENDAR
